BEGIN:VCALENDAR
VERSION:2.0
PRODID:GIGPRESS 2.0 WORDPRESS PLUGIN
CALSCALE:GREGORIAN
X-WR-TIMEZONE:Etc/GMT
METHOD:PUBLISH
BEGIN:VTIMEZONE
TZID:GMT
BEGIN:STANDARD
DTSTART:20071028T010000
TZOFFSETTO:+0000
TZOFFSETFROM:+0000
END:STANDARD
END:VTIMEZONE
BEGIN:VEVENT
SUMMARY:Quique González - La Pérgola de La Marina
DESCRIPTION:Gira: 1973. 
LOCATION:La Pérgola de La Marina\, Valencia\, ES
UID:20261128T110000Z-168-wp@estelacantabra.com
URL:https://quiquegonzalez.com
DTSTART;VALUE=DATE-TIME;TZID=GMT:20261128T110000Z
DTEND;VALUE=DATE-TIME;TZID=GMT:20261128T110000Z
DTSTAMP:20260423T102007Z
END:VEVENT
END:VCALENDAR